BEGIN:VCALENDAR
VERSION:2.0
PRODID:-//wp-events-plugin.com//7.2.3.1//EN
TZID:Europe/Paris
X-WR-TIMEZONE:Europe/Paris
BEGIN:VEVENT
UID:5145@agenda24.fr
DTSTART;TZID=Europe/Paris:20250313T180000
DTEND;TZID=Europe/Paris:20250313T180000
DTSTAMP:20250213T093412Z
URL:https://agenda24.fr/evenements/festival-expoesie-vernissages-et-lectur
 es-performances/
SUMMARY:Festival Expoésie - Vernissages et lectures-performances
DESCRIPTION:
CATEGORIES:Rencontre / Conférence / Discussion
LOCATION:Centre culturel La visitation\, Centre culturel La visitation\, P
 érigueux\, France
X-APPLE-STRUCTURED-LOCATION;VALUE=URI;X-ADDRESS=Centre culturel La visitati
 on\, Périgueux\, France;X-APPLE-RADIUS=100;X-TITLE=Centre culturel La vis
 itation:geo:0,0
END:VEVENT
BEGIN:VTIMEZONE
TZID:Europe/Paris
X-LIC-LOCATION:Europe/Paris
BEGIN:STANDARD
DTSTART:20241027T020000
TZOFFSETFROM:+0200
TZOFFSETTO:+0100
TZNAME:CET
END:STANDARD
END:VTIMEZONE
END:VCALENDAR