BEGIN:VCALENDAR
VERSION:2.0
PRODID:-//wp-events-plugin.com//7.2.3.1//EN
TZID:Europe/Paris
X-WR-TIMEZONE:Europe/Paris
BEGIN:VEVENT
UID:5144@agenda24.fr
DTSTART;TZID=Europe/Paris:20250318T140000
DTEND;TZID=Europe/Paris:20250318T140000
DTSTAMP:20250213T093412Z
URL:https://agenda24.fr/evenements/festival-expoesie-rencontre-avec-herve-
 brunaux/
SUMMARY:Festival Expoésie - Rencontre avec Hervé Brunaux\,
DESCRIPTION:
CATEGORIES:Rencontre / Conférence / Discussion
LOCATION:Médiathèque\, Médiathèque\, Mussidan\, France
GEO:45.037085;0.36429899
X-APPLE-STRUCTURED-LOCATION;VALUE=URI;X-ADDRESS=Médiathèque\, Mussidan\, 
 France;X-APPLE-RADIUS=100;X-TITLE=Médiathèque:geo:45.037085,0.36429899
END:VEVENT
BEGIN:VTIMEZONE
TZID:Europe/Paris
X-LIC-LOCATION:Europe/Paris
BEGIN:STANDARD
DTSTART:20241027T020000
TZOFFSETFROM:+0200
TZOFFSETTO:+0100
TZNAME:CET
END:STANDARD
END:VTIMEZONE
END:VCALENDAR