BEGIN:VCALENDAR
VERSION:2.0
PRODID:-//wp-events-plugin.com//7.2.3.1//EN
TZID:Europe/Paris
X-WR-TIMEZONE:Europe/Paris
BEGIN:VEVENT
UID:5143@agenda24.fr
DTSTART;TZID=Europe/Paris:20250321T160000
DTEND;TZID=Europe/Paris:20250321T160000
DTSTAMP:20250213T093412Z
URL:https://agenda24.fr/evenements/festival-expoesie-remise-du-prix-nation
 al-bachic/
SUMMARY:Festival Expoésie - Remise du prix national baChic
DESCRIPTION:
CATEGORIES:Rencontre / Conférence / Discussion
LOCATION:Place Saint Louis\, Place Saint Louis\, Périgueux\, France
X-APPLE-STRUCTURED-LOCATION;VALUE=URI;X-ADDRESS=Place Saint Louis\, Périgu
 eux\, France;X-APPLE-RADIUS=100;X-TITLE=Place Saint Louis:geo:0,0
END:VEVENT
BEGIN:VTIMEZONE
TZID:Europe/Paris
X-LIC-LOCATION:Europe/Paris
BEGIN:STANDARD
DTSTART:20241027T020000
TZOFFSETFROM:+0200
TZOFFSETTO:+0100
TZNAME:CET
END:STANDARD
END:VTIMEZONE
END:VCALENDAR