BEGIN:VCALENDAR
VERSION:2.0
PRODID:-//wp-events-plugin.com//7.2.3.1//EN
TZID:Europe/Paris
X-WR-TIMEZONE:Europe/Paris
BEGIN:VEVENT
UID:5142@agenda24.fr
DTSTART;TZID=Europe/Paris:20250319T170000
DTEND;TZID=Europe/Paris:20250319T170000
DTSTAMP:20250213T093359Z
URL:https://agenda24.fr/evenements/festival-expoesie-remise-des-prix-expoe
 sie-jeunesse/
SUMMARY:Festival Expoésie - Remise des prix Expoésie Jeunesse
DESCRIPTION:
CATEGORIES:Rencontre / Conférence / Discussion
LOCATION:Amphithéâtre Jean Moulin\, Amphithéâtre Jean Moulin\, Périgue
 ux\, France
X-APPLE-STRUCTURED-LOCATION;VALUE=URI;X-ADDRESS=Amphithéâtre Jean Moulin\
 , Périgueux\, France;X-APPLE-RADIUS=100;X-TITLE=Amphithéâtre Jean Mouli
 n:geo:0,0
END:VEVENT
BEGIN:VTIMEZONE
TZID:Europe/Paris
X-LIC-LOCATION:Europe/Paris
BEGIN:STANDARD
DTSTART:20241027T020000
TZOFFSETFROM:+0200
TZOFFSETTO:+0100
TZNAME:CET
END:STANDARD
END:VTIMEZONE
END:VCALENDAR