BEGIN:VCALENDAR
VERSION:2.0
PRODID:-//wp-events-plugin.com//7.2.3.1//EN
TZID:Europe/Paris
X-WR-TIMEZONE:Europe/Paris
BEGIN:VEVENT
UID:5139@agenda24.fr
DTSTART;TZID=Europe/Paris:20250319T100000
DTEND;TZID=Europe/Paris:20250319T100000
DTSTAMP:20250213T093412Z
URL:https://agenda24.fr/evenements/festival-expoesie-les-aventures-experim
 entales-du-grand-catastropheur/
SUMMARY:Festival Expoésie - « Les aventures expérimentales du Grand Cata
 stropheur »
DESCRIPTION:
CATEGORIES:Rencontre / Conférence / Discussion
LOCATION:Espace culturel François Mitterand\, Espace culturel François Mi
 tterand\, Périgueux\, France
X-APPLE-STRUCTURED-LOCATION;VALUE=URI;X-ADDRESS=Espace culturel François M
 itterand\, Périgueux\, France;X-APPLE-RADIUS=100;X-TITLE=Espace culturel 
 François Mitterand:geo:0,0
END:VEVENT
BEGIN:VTIMEZONE
TZID:Europe/Paris
X-LIC-LOCATION:Europe/Paris
BEGIN:STANDARD
DTSTART:20241027T020000
TZOFFSETFROM:+0200
TZOFFSETTO:+0100
TZNAME:CET
END:STANDARD
END:VTIMEZONE
END:VCALENDAR