BEGIN:VCALENDAR
VERSION:2.0
PRODID:-//wp-events-plugin.com//7.2.3.1//EN
TZID:Europe/Paris
X-WR-TIMEZONE:Europe/Paris
BEGIN:VEVENT
UID:5293@agenda24.fr
DTSTART;TZID=Europe/Paris:20250322T183000
DTEND;TZID=Europe/Paris:20250322T183000
DTSTAMP:20250213T102954Z
URL:https://agenda24.fr/evenements/festival-expoesie-lectures-croisees-de-
 beata-umumbyeyi-mairesse-et-ysiaka-anam/
SUMMARY:Festival Expoésie - Lectures croisées de Beata Umumbyeyi Mairesse
  et Ysiaka Anam
DESCRIPTION:
CATEGORIES:Spectacle
LOCATION:Espace Britten\, Espace Britten\, Périgueux\, France
X-APPLE-STRUCTURED-LOCATION;VALUE=URI;X-ADDRESS=Espace Britten\, Périgueux
 \, France;X-APPLE-RADIUS=100;X-TITLE=Espace Britten:geo:0,0
END:VEVENT
BEGIN:VTIMEZONE
TZID:Europe/Paris
X-LIC-LOCATION:Europe/Paris
BEGIN:STANDARD
DTSTART:20241027T020000
TZOFFSETFROM:+0200
TZOFFSETTO:+0100
TZNAME:CET
END:STANDARD
END:VTIMEZONE
END:VCALENDAR