BEGIN:VCALENDAR
VERSION:2.0
PRODID:-//wp-events-plugin.com//7.2.3.1//EN
TZID:Europe/Paris
X-WR-TIMEZONE:Europe/Paris
BEGIN:VEVENT
UID:5292@agenda24.fr
DTSTART;TZID=Europe/Paris:20250321T190000
DTEND;TZID=Europe/Paris:20250321T190000
DTSTAMP:20250213T102954Z
URL:https://agenda24.fr/evenements/festival-expoesie-lecture-performance-d
 e-samantha-barendson-kent/
SUMMARY:Festival Expoésie - Lecture-performance de Samantha Barendson + Ke
 nt
DESCRIPTION:
CATEGORIES:Spectacle
LOCATION:Le Palace\, Le Palace\, Périgueux\, France
X-APPLE-STRUCTURED-LOCATION;VALUE=URI;X-ADDRESS=Le Palace\, Périgueux\, Fr
 ance;X-APPLE-RADIUS=100;X-TITLE=Le Palace:geo:0,0
END:VEVENT
BEGIN:VTIMEZONE
TZID:Europe/Paris
X-LIC-LOCATION:Europe/Paris
BEGIN:STANDARD
DTSTART:20241027T020000
TZOFFSETFROM:+0200
TZOFFSETTO:+0100
TZNAME:CET
END:STANDARD
END:VTIMEZONE
END:VCALENDAR