BEGIN:VCALENDAR
VERSION:2.0
PRODID:-//wp-events-plugin.com//7.2.3.1//EN
TZID:Europe/Paris
X-WR-TIMEZONE:Europe/Paris
BEGIN:VEVENT
UID:5141@agenda24.fr
DTSTART;TZID=Europe/Paris:20250322T113000
DTEND;TZID=Europe/Paris:20250322T113000
DTSTAMP:20250213T093359Z
URL:https://agenda24.fr/evenements/festival-expoesie-lecture-et-dedicace-d
 e-inna-maaimura/
SUMMARY:Festival Expoésie - Lecture et dédicace de Inna Maaìmura
DESCRIPTION:
CATEGORIES:Rencontre / Conférence / Discussion
LOCATION:Librairie Les Ruelles\, Librairie Les Ruelles\, Périgueux\, Franc
 e
X-APPLE-STRUCTURED-LOCATION;VALUE=URI;X-ADDRESS=Librairie Les Ruelles\, Pé
 rigueux\, France;X-APPLE-RADIUS=100;X-TITLE=Librairie Les Ruelles:geo:0,0
END:VEVENT
BEGIN:VTIMEZONE
TZID:Europe/Paris
X-LIC-LOCATION:Europe/Paris
BEGIN:STANDARD
DTSTART:20241027T020000
TZOFFSETFROM:+0200
TZOFFSETTO:+0100
TZNAME:CET
END:STANDARD
END:VTIMEZONE
END:VCALENDAR