BEGIN:VCALENDAR
VERSION:2.0
PRODID:-//wp-events-plugin.com//7.2.3.1//EN
TZID:Europe/Paris
X-WR-TIMEZONE:Europe/Paris
BEGIN:VEVENT
UID:5138@agenda24.fr
DTSTART;TZID=Europe/Paris:20250311T183000
DTEND;TZID=Europe/Paris:20250311T183000
DTSTAMP:20250213T093412Z
URL:https://agenda24.fr/evenements/festival-expoesie-laisses-exposition-de
 -livres-dartistes-de-maelle-de-coux/
SUMMARY:Festival Expoésie - « Laisses »\, exposition de livres d’artis
 tes de Maëlle de Coux
DESCRIPTION:
CATEGORIES:Rencontre / Conférence / Discussion
LOCATION:Galerie 66\, Galerie 66\, Périgueux\, France
X-APPLE-STRUCTURED-LOCATION;VALUE=URI;X-ADDRESS=Galerie 66\, Périgueux\, F
 rance;X-APPLE-RADIUS=100;X-TITLE=Galerie 66:geo:0,0
END:VEVENT
BEGIN:VTIMEZONE
TZID:Europe/Paris
X-LIC-LOCATION:Europe/Paris
BEGIN:STANDARD
DTSTART:20241027T020000
TZOFFSETFROM:+0200
TZOFFSETTO:+0100
TZNAME:CET
END:STANDARD
END:VTIMEZONE
END:VCALENDAR