BEGIN:VCALENDAR
VERSION:2.0
PRODID:-//wp-events-plugin.com//7.2.3.1//EN
TZID:Europe/Paris
X-WR-TIMEZONE:Europe/Paris
BEGIN:VEVENT
UID:5140@agenda24.fr
DTSTART;TZID=Europe/Paris:20250312T183000
DTEND;TZID=Europe/Paris:20250312T183000
DTSTAMP:20250213T093359Z
URL:https://agenda24.fr/evenements/festival-expoesie-facteur-zebre-exposit
 ion/
SUMMARY:Festival Expoésie - Facteur Zèbre + exposition
DESCRIPTION:Facteur Zèbre // Rock & Poésie (Toulouse)\n\nFacteur Zèbre e
 st un groupe toulousain\, espèce « hue dada Rock » s’il fallait vraim
 ent lui trouver un compartiment. Une sorte d’animal stéréophonique à 
 rayures\, mené par le poète Pierre Soletti et lancé à toute berzingue 
 dans les steppes arides de nos temps modernes…\nLe groupe a sorti son pr
 emier album directement en librairie. Leur prochain EP DownTown #18 sortir
 a prochainement sous le label Color Gang Is Not Dead.\n\n\n+ Exposition «
  Sédentaires provisoires »\, de Pierre Soletti\n\nL’exposition explore
  l’ambivalence entre enracinement & nomadisme. Elle réunit des créatio
 ns qui réinventent la notion de territoire\, d’attache\, et de passage 
 (exposition du 12 au 23 mars).\n\n \n\n> Vernissage de l’exposition à 1
 8h30\, concert à 19h30
CATEGORIES:Rencontre / Conférence / Discussion
LOCATION:10 Rue Arago\, 10 Rue Arago\, Périgueux\, France
GEO:45.18538;0.71456
X-APPLE-STRUCTURED-LOCATION;VALUE=URI;X-ADDRESS=10 Rue Arago\, Périgueux\,
  France;X-APPLE-RADIUS=100;X-TITLE=10 Rue Arago:geo:45.18538,0.71456
END:VEVENT
BEGIN:VTIMEZONE
TZID:Europe/Paris
X-LIC-LOCATION:Europe/Paris
BEGIN:STANDARD
DTSTART:20241027T020000
TZOFFSETFROM:+0200
TZOFFSETTO:+0100
TZNAME:CET
END:STANDARD
END:VTIMEZONE
END:VCALENDAR