BEGIN:VCALENDAR
VERSION:2.0
PRODID:-//wp-events-plugin.com//7.2.3.1//EN
TZID:Europe/Paris
X-WR-TIMEZONE:Europe/Paris
BEGIN:VEVENT
UID:5749@agenda24.fr
DTSTART;TZID=Europe/Paris:20250425T200000
DTEND;TZID=Europe/Paris:20250425T200000
DTSTAMP:20250326T135042Z
URL:https://agenda24.fr/evenements/festival-des-musiciens-du-perigord-vert
 /
SUMMARY:Festival des musiciens du Périgord Vert
DESCRIPTION:25 avril à 20 h : ENSEMBLE CHANTONS PIAF ! (Durée 1 heure)\n2
 6 avril à 16 h : SOUS LES PAVES LE LARGE (Chansons françaises)\n26 avril
  à 20 h 30 : Concert magique de GUN FLOWER\, groupe de blues-rock compos
 é de 6 musiciens d’exception.  On va danser ! On va swinguer !\n27 avri
 l à 16 h 00 : L’ALHAMBRA - Violon\, guitare\, basse\, trompette\, contr
 e basse et voix pour vous faire voyager à travers les musiques du monde\,
  du jazz au fado en passant par la musique arabo-andalouse\, sans oublier 
 la sud-américaine\n27 avril à 17 h 00 : ORCHESTRE DE LA SOCIETE MUSICALE
  DE RIBERAC dirigé par MICHEL LORIN - Un répertoire diversifié\, des va
 riétés au classique en passant par le jazz\n\nAu chapeau. \n\nSans rése
 rvation préalable.\n\nCette animation est prévue en extérieur avec poss
 ibilité de repli à l'intérieur en cas de mauvais temps.
CATEGORIES:Concert
LOCATION:Château de Jaurias\, 208 route du Château\, Gout-Rossignol\, Fra
 nce
GEO:45.4121968;0.4113939
X-APPLE-STRUCTURED-LOCATION;VALUE=URI;X-ADDRESS=208 route du Château\, Gou
 t-Rossignol\, France;X-APPLE-RADIUS=100;X-TITLE=Château de Jaurias:geo:45
 .4121968,0.4113939
END:VEVENT
BEGIN:VTIMEZONE
TZID:Europe/Paris
X-LIC-LOCATION:Europe/Paris
BEGIN:DAYLIGHT
DTSTART:20250330T030000
TZOFFSETFROM:+0100
TZOFFSETTO:+0200
TZNAME:CEST
END:DAYLIGHT
END:VTIMEZONE
END:VCALENDAR