BEGIN:VCALENDAR
VERSION:2.0
PRODID:-//wp-events-plugin.com//7.2.3.1//EN
TZID:Europe/Paris
X-WR-TIMEZONE:Europe/Paris
BEGIN:VEVENT
UID:4031@agenda24.fr
DTSTART;TZID=Europe/Paris:20241213T090000
DTEND;TZID=Europe/Paris:20241213T180000
DTSTAMP:20241030T091139Z
URL:https://agenda24.fr/evenements/festival-dart-vernois-2/
SUMMARY:Festival d'Art Vernois
DESCRIPTION:
CATEGORIES:Festival
LOCATION:Atrium\, Atrium\, Vergt\, France
GEO:45.02939;0.71915
X-APPLE-STRUCTURED-LOCATION;VALUE=URI;X-ADDRESS=Atrium\, Vergt\, France;X-A
 PPLE-RADIUS=100;X-TITLE=Atrium:geo:45.02939,0.71915
END:VEVENT
BEGIN:VTIMEZONE
TZID:Europe/Paris
X-LIC-LOCATION:Europe/Paris
BEGIN:STANDARD
DTSTART:20241027T020000
TZOFFSETFROM:+0200
TZOFFSETTO:+0100
TZNAME:CET
END:STANDARD
END:VTIMEZONE
END:VCALENDAR