BEGIN:VCALENDAR
VERSION:2.0
PRODID:-//wp-events-plugin.com//7.2.3.1//EN
TZID:Europe/Paris
X-WR-TIMEZONE:Europe/Paris
BEGIN:VEVENT
UID:5946@agenda24.fr
DTSTART;TZID=Europe/Paris:20250420T100000
DTEND;TZID=Europe/Paris:20250420T190000
DTSTAMP:20250326T140650Z
URL:https://agenda24.fr/evenements/expositions-dartistes/
SUMMARY:Expositions d'artistes
DESCRIPTION: - Rachel Evans : Objets étonnants\n\n- Antoine Sylvie - Ateli
 er SYA91 - sacs en tissu et bijoux\n\n- Brutto Sidonie - L’Atelier Brut 
 – céramiste \n\n- Mongenet Veronique - NAlila – bijoux\n\n- Novelli R
 osella - Art de la laine – Fileuse\n\nSans réservation préalable.\n\nC
 ette animation est prévue à l'intérieur. 
CATEGORIES:Marché / Foire / Brocante
LOCATION:Château du Clauzuroux\, 50 impasse du château de Clauzuroux\, Ch
 ampagne-et-Fontaine\, France
GEO:45.4099543;0.35559725
X-APPLE-STRUCTURED-LOCATION;VALUE=URI;X-ADDRESS=50 impasse du château de C
 lauzuroux\, Champagne-et-Fontaine\, France;X-APPLE-RADIUS=100;X-TITLE=Châ
 teau du Clauzuroux:geo:45.4099543,0.35559725
END:VEVENT
BEGIN:VTIMEZONE
TZID:Europe/Paris
X-LIC-LOCATION:Europe/Paris
BEGIN:DAYLIGHT
DTSTART:20250330T030000
TZOFFSETFROM:+0100
TZOFFSETTO:+0200
TZNAME:CEST
END:DAYLIGHT
END:VTIMEZONE
END:VCALENDAR