BEGIN:VCALENDAR
VERSION:2.0
PRODID:-//wp-events-plugin.com//7.2.3.1//EN
TZID:Europe/Paris
X-WR-TIMEZONE:Europe/Paris
BEGIN:VEVENT
UID:9725@agenda24.fr
DTSTART;TZID=Europe/Paris:20251103T100000
DTEND;TZID=Europe/Paris:20251103T123000
DTSTAMP:20251101T090449Z
URL:https://agenda24.fr/evenements/exposition-vivre-ensemble-dans-le-respe
 ct/
SUMMARY:Exposition - “Vivre ensemble dans le respect"
DESCRIPTION:« Vivre ensemble dans le respect »\, Espace Cantarius : expos
 ition itinérante conçue à partir de travaux menés par des jeunes. \n\n
 12 panneaux de présentation\, complétés d’animations\, sur les théma
 tiques du consentement\, des relations amicales et amoureuses\, dans le ca
 dre de la lutte contre toutes les formes de violences\, notamment les viol
 ences sexistes et sexuelles. \n\nA destination des jeunes à partir de 9 a
 ns\nGratuit\, ouvert à tous\n10h-12h30 et 14h-17h\, visite libre\n\nCIAS 
  05 53 80 86 86
CATEGORIES:Spectacle
LOCATION:Espace Cantarius\, Espace Cantarius\, Chanterac\, France
GEO:45.1728773;0.44475026
X-APPLE-STRUCTURED-LOCATION;VALUE=URI;X-ADDRESS=Espace Cantarius\, Chantera
 c\, France;X-APPLE-RADIUS=100;X-TITLE=Espace Cantarius:geo:45.1728773,0.44
 475026
END:VEVENT
BEGIN:VTIMEZONE
TZID:Europe/Paris
X-LIC-LOCATION:Europe/Paris
BEGIN:STANDARD
DTSTART:20251026T020000
TZOFFSETFROM:+0200
TZOFFSETTO:+0100
TZNAME:CET
END:STANDARD
END:VTIMEZONE
END:VCALENDAR