BEGIN:VCALENDAR
VERSION:2.0
PRODID:-//wp-events-plugin.com//7.2.3.1//EN
TZID:Europe/Paris
X-WR-TIMEZONE:Europe/Paris
BEGIN:VEVENT
UID:5940@agenda24.fr
DTSTART;TZID=Europe/Paris:20250424T093000
DTEND;TZID=Europe/Paris:20250424T173000
DTSTAMP:20250326T140649Z
URL:https://agenda24.fr/evenements/exposition-photo-retracant-les-100-ans-
 du-chateau/
SUMMARY:Exposition photo retraçant les 100 ans du Château
DESCRIPTION:Exposition photo retraçant les différentes évolutions du Ch
 âteau de Bassy et son parc depuis 1925.\n\nSans réservation préalable.\
 n\nCette animation est prévue en extérieur sans possibilité de repli à
  l'intérieur en cas de mauvais temps (annulation possible).
CATEGORIES:Marché / Foire / Brocante
LOCATION:Château de Bassy\, 1 Rue du Bosquet\, Saint-Medard-de-Mussidan\, 
 France
GEO:45.01984;0.3362
X-APPLE-STRUCTURED-LOCATION;VALUE=URI;X-ADDRESS=1 Rue du Bosquet\, Saint-Me
 dard-de-Mussidan\, France;X-APPLE-RADIUS=100;X-TITLE=Château de Bassy:geo
 :45.01984,0.3362
END:VEVENT
BEGIN:VTIMEZONE
TZID:Europe/Paris
X-LIC-LOCATION:Europe/Paris
BEGIN:DAYLIGHT
DTSTART:20250330T030000
TZOFFSETFROM:+0100
TZOFFSETTO:+0200
TZNAME:CEST
END:DAYLIGHT
END:VTIMEZONE
END:VCALENDAR