BEGIN:VCALENDAR
VERSION:2.0
PRODID:-//wp-events-plugin.com//7.2.3.1//EN
TZID:Europe/Paris
X-WR-TIMEZONE:Europe/Paris
BEGIN:VEVENT
UID:11830@agenda24.fr
DTSTART;TZID=Europe/Paris:20260319T160000
DTEND;TZID=Europe/Paris:20260319T190000
DTSTAMP:20260301T135157Z
URL:https://agenda24.fr/evenements/exposition-femmes-engagees/
SUMMARY:Exposition - Femmes Engagées
DESCRIPTION:À l’occasion du Mois des droits des femmes\, le tribunal jud
 iciaire de Périgueux accueillera jeudi 19 mars à 16h une présentation e
 xceptionnelle des sculptures de l’artiste Elisabeth Laborieux.\nSes œuv
 res\, aux formes généreuses\, réalisées en pierre\, bronze et terre\, 
 seront visibles uniquement durant le concert de la chorale «?Dames de cœ
 ur?». Les sculptures\, aux postures variées\, invitent à la réflexion 
 et au rêve\, offrant un moment artistique singulier dans un lieu habituel
 lement consacré au droit et à la justice.
CATEGORIES:Tourisme / Patrimoine
LOCATION:Tribunal Judiciaire\, 19 Bis Boulevard Michel Montaigne\, Périgue
 ux\, France
GEO:45.1860282;0.720148
X-APPLE-STRUCTURED-LOCATION;VALUE=URI;X-ADDRESS=19 Bis Boulevard Michel Mon
 taigne\, Périgueux\, France;X-APPLE-RADIUS=100;X-TITLE=Tribunal Judiciair
 e:geo:45.1860282,0.720148
END:VEVENT
BEGIN:VTIMEZONE
TZID:Europe/Paris
X-LIC-LOCATION:Europe/Paris
BEGIN:STANDARD
DTSTART:20251026T020000
TZOFFSETFROM:+0200
TZOFFSETTO:+0100
TZNAME:CET
END:STANDARD
END:VTIMEZONE
END:VCALENDAR