BEGIN:VCALENDAR
VERSION:2.0
PRODID:-//wp-events-plugin.com//7.2.3.1//EN
TZID:Europe/Paris
X-WR-TIMEZONE:Europe/Paris
BEGIN:VEVENT
UID:11839@agenda24.fr
DTSTART;TZID=Europe/Paris:20260329T100000
DTEND;TZID=Europe/Paris:20260329T180000
DTSTAMP:20260301T135157Z
URL:https://agenda24.fr/evenements/exposition-et-demonstration-l-les-print
 anieres/
SUMMARY:Exposition et démonstration l Les printanières
DESCRIPTION:Journée exposition et démonstrations les printanières avec l
 es artistes et artisans des villages. Animations avec les enfants. Foodtru
 cks. \n
CATEGORIES:Tourisme / Patrimoine
LOCATION:Bouillac\, Bouillac\, Bouillac\, France
GEO:44.759769;0.919418
X-APPLE-STRUCTURED-LOCATION;VALUE=URI;X-ADDRESS=Bouillac\, Bouillac\, Franc
 e;X-APPLE-RADIUS=100;X-TITLE=Bouillac:geo:44.759769,0.919418
END:VEVENT
BEGIN:VTIMEZONE
TZID:Europe/Paris
X-LIC-LOCATION:Europe/Paris
BEGIN:DAYLIGHT
DTSTART:20260329T030000
TZOFFSETFROM:+0100
TZOFFSETTO:+0200
TZNAME:CEST
END:DAYLIGHT
END:VTIMEZONE
END:VCALENDAR