BEGIN:VCALENDAR
VERSION:2.0
PRODID:-//wp-events-plugin.com//7.2.3.1//EN
TZID:Europe/Paris
X-WR-TIMEZONE:Europe/Paris
BEGIN:VEVENT
UID:5939@agenda24.fr
DTSTART;TZID=Europe/Paris:20250427T140000
DTEND;TZID=Europe/Paris:20250427T180000
DTSTAMP:20250326T140649Z
URL:https://agenda24.fr/evenements/exposition-de-voitures-de-collection/
SUMMARY:Exposition de voitures de collection
DESCRIPTION:Venez admirer des véhicules anciens de collection\, stationné
 s dans la grande cour.\n\nSans réservation préalable. \n\nCette animatio
 n aura lieu en extérieur sans possibilité de repli à l'intérieur en ca
 s de mauvais temps (annulation possible).
CATEGORIES:Marché / Foire / Brocante
LOCATION:Chartreuse des fraux\, 330 chemin des frauds \, La Bachellerie\, F
 rance
GEO:45.1345231;1.15672857
X-APPLE-STRUCTURED-LOCATION;VALUE=URI;X-ADDRESS=330 chemin des frauds \, La
  Bachellerie\, France;X-APPLE-RADIUS=100;X-TITLE=Chartreuse des fraux:geo:
 45.1345231,1.15672857
END:VEVENT
BEGIN:VTIMEZONE
TZID:Europe/Paris
X-LIC-LOCATION:Europe/Paris
BEGIN:DAYLIGHT
DTSTART:20250330T030000
TZOFFSETFROM:+0100
TZOFFSETTO:+0200
TZNAME:CEST
END:DAYLIGHT
END:VTIMEZONE
END:VCALENDAR