BEGIN:VCALENDAR
VERSION:2.0
PRODID:-//wp-events-plugin.com//7.2.3.1//EN
TZID:Europe/Paris
X-WR-TIMEZONE:Europe/Paris
BEGIN:VEVENT
UID:5942@agenda24.fr
DTSTART;TZID=Europe/Paris:20250427T090000
DTEND;TZID=Europe/Paris:20250427T120000
DTSTAMP:20250326T140649Z
URL:https://agenda24.fr/evenements/exposition-de-voitures-de-collection-2/
SUMMARY:Exposition de voitures de collection
DESCRIPTION:Exposition de véhicules de collection.\n\nSans réservation pr
 éalable. \n\nCette animation est prévue en extérieur sans possibilité 
 de repli à l'intérieur en cas de mauvais temps (annulation possible).\n\
 nAu cours de cette animation\, vous aurez accès à la cour d'honneur et a
 ux terrasses du château.
CATEGORIES:Marché / Foire / Brocante
LOCATION:Château de Connezac\, 1 place du Château\, Connezac\, France
GEO:45.504101;0.52371
X-APPLE-STRUCTURED-LOCATION;VALUE=URI;X-ADDRESS=1 place du Château\, Conne
 zac\, France;X-APPLE-RADIUS=100;X-TITLE=Château de Connezac:geo:45.504101
 ,0.52371
END:VEVENT
BEGIN:VTIMEZONE
TZID:Europe/Paris
X-LIC-LOCATION:Europe/Paris
BEGIN:DAYLIGHT
DTSTART:20250330T030000
TZOFFSETFROM:+0100
TZOFFSETTO:+0200
TZNAME:CEST
END:DAYLIGHT
END:VTIMEZONE
END:VCALENDAR