BEGIN:VCALENDAR
VERSION:2.0
PRODID:-//wp-events-plugin.com//7.2.3.1//EN
TZID:Europe/Paris
X-WR-TIMEZONE:Europe/Paris
BEGIN:VEVENT
UID:9727@agenda24.fr
DTSTART;TZID=Europe/Paris:20251130T100000
DTEND;TZID=Europe/Paris:20251130T180000
DTSTAMP:20251101T090450Z
URL:https://agenda24.fr/evenements/exposition-de-noel/
SUMMARY:Exposition de Noël
DESCRIPTION:Plein d’idées originales à découvrir pour vos cadeaux de N
 oël\, dans une ambiance conviviale et chaleureuse ! \n\nAccessoires de mo
 de\, sacs\, pochettes et bijoux en pierres\n\n10h-18h\, Planèze (8 rue du
  Lavoir)\n\nL’atelier SYA91 : 06 08 70 06 53\n
CATEGORIES:Spectacle
LOCATION:8 rue du Lavoir\, 8 rue du Lavoir\, Neuvic\, France
GEO:45.1159332;0.46777801
X-APPLE-STRUCTURED-LOCATION;VALUE=URI;X-ADDRESS=8 rue du Lavoir\, Neuvic\, 
 France;X-APPLE-RADIUS=100;X-TITLE=8 rue du Lavoir:geo:45.1159332,0.4677780
 1
END:VEVENT
BEGIN:VTIMEZONE
TZID:Europe/Paris
X-LIC-LOCATION:Europe/Paris
BEGIN:STANDARD
DTSTART:20251026T020000
TZOFFSETFROM:+0200
TZOFFSETTO:+0100
TZNAME:CET
END:STANDARD
END:VTIMEZONE
END:VCALENDAR