BEGIN:VCALENDAR
VERSION:2.0
PRODID:-//wp-events-plugin.com//7.2.3.1//EN
TZID:Europe/Paris
X-WR-TIMEZONE:Europe/Paris
BEGIN:VEVENT
UID:5967@agenda24.fr
DTSTART;TZID=Europe/Paris:20250412T120000
DTEND;TZID=Europe/Paris:20250412T180000
DTSTAMP:20250326T140643Z
URL:https://agenda24.fr/evenements/exposition-de-modeles-reduits-radiocomm
 andes/
SUMMARY:Exposition de modèles réduits radiocommandés
DESCRIPTION:Journée découverte du modélisme / Dans un esprit amical et c
 onvivial\nAvion\, bateau\, sous-marin\, planneur\, train électrique
CATEGORIES:Marché / Foire / Brocante
LOCATION:Salle de la Poste\, Salle de la Poste\, Jumilhac-le-Grand\, France
GEO:45.49354;1.0607
X-APPLE-STRUCTURED-LOCATION;VALUE=URI;X-ADDRESS=Salle de la Poste\, Jumilha
 c-le-Grand\, France;X-APPLE-RADIUS=100;X-TITLE=Salle de la Poste:geo:45.49
 354,1.0607
END:VEVENT
BEGIN:VTIMEZONE
TZID:Europe/Paris
X-LIC-LOCATION:Europe/Paris
BEGIN:DAYLIGHT
DTSTART:20250330T030000
TZOFFSETFROM:+0100
TZOFFSETTO:+0200
TZNAME:CEST
END:DAYLIGHT
END:VTIMEZONE
END:VCALENDAR