BEGIN:VCALENDAR
VERSION:2.0
PRODID:-//wp-events-plugin.com//7.2.3.1//EN
TZID:Europe/Paris
X-WR-TIMEZONE:Europe/Paris
BEGIN:VEVENT
UID:5969@agenda24.fr
DTSTART;TZID=Europe/Paris:20250427T100000
DTEND;TZID=Europe/Paris:20250427T180000
DTSTAMP:20250326T140643Z
URL:https://agenda24.fr/evenements/expo-artistes-et-artisans-de-prats-du-p
 erigord-2/
SUMMARY:Expo artistes et artisans de Prats du Périgord
DESCRIPTION:EXPO\nles artistes et artisans de Prats-du-Périgord exposent l
 eurs créations\nles 26 et 27 avril 2025\, de 10h à 18h (pause entre 12h3
 0 et 13h30)\nà la salle des fêtes de Prats-du-Périgord
CATEGORIES:Marché / Foire / Brocante
LOCATION:Salle des fêtes\, Salle des fêtes\, Prats-du-Périgord\, France
GEO:44.691723;1.067228
X-APPLE-STRUCTURED-LOCATION;VALUE=URI;X-ADDRESS=Salle des fêtes\, Prats-du
 -Périgord\, France;X-APPLE-RADIUS=100;X-TITLE=Salle des fêtes:geo:44.691
 723,1.067228
END:VEVENT
BEGIN:VTIMEZONE
TZID:Europe/Paris
X-LIC-LOCATION:Europe/Paris
BEGIN:DAYLIGHT
DTSTART:20250330T030000
TZOFFSETFROM:+0100
TZOFFSETTO:+0200
TZNAME:CEST
END:DAYLIGHT
END:VTIMEZONE
END:VCALENDAR