BEGIN:VCALENDAR
VERSION:2.0
PRODID:-//wp-events-plugin.com//7.2.3.1//EN
TZID:Europe/Paris
X-WR-TIMEZONE:Europe/Paris
BEGIN:VEVENT
UID:9724@agenda24.fr
DTSTART;TZID=Europe/Paris:20251119T183000
DTEND;TZID=Europe/Paris:20251119T183000
DTSTAMP:20251101T090449Z
URL:https://agenda24.fr/evenements/etranges-lectures/
SUMMARY:Etranges lectures
DESCRIPTION:Etranges lectures – Avec Karolina Ramqvist\, auteure suédois
 e qui présentera son livre « De pain et de Lait » à 18h30. Dégustatio
 ns de douceurs à 20h\, film à 20h30\, entrée gratuite pour la présenta
 tion du livre\, 6 et 4 € pour la séance de cinéma- Salle Le Lascaux 06
  07 87 81 78\n
CATEGORIES:Spectacle
LOCATION:Salle Le lascaux\, Salle Le lascaux\, Montpon-Ménestérol\, Franc
 e
GEO:45.0090515;0.15949114
X-APPLE-STRUCTURED-LOCATION;VALUE=URI;X-ADDRESS=Salle Le lascaux\, Montpon-
 Ménestérol\, France;X-APPLE-RADIUS=100;X-TITLE=Salle Le lascaux:geo:45.0
 090515,0.15949114
END:VEVENT
BEGIN:VTIMEZONE
TZID:Europe/Paris
X-LIC-LOCATION:Europe/Paris
BEGIN:STANDARD
DTSTART:20251026T020000
TZOFFSETFROM:+0200
TZOFFSETTO:+0100
TZNAME:CET
END:STANDARD
END:VTIMEZONE
END:VCALENDAR