BEGIN:VCALENDAR
VERSION:2.0
PRODID:-//wp-events-plugin.com//7.2.3.1//EN
TZID:Europe/Paris
X-WR-TIMEZONE:Europe/Paris
BEGIN:VEVENT
UID:9708@agenda24.fr
DTSTART;TZID=Europe/Paris:20251120T183000
DTEND;TZID=Europe/Paris:20251120T183000
DTSTAMP:20251101T090448Z
URL:https://agenda24.fr/evenements/etranges-lectures-de-pain-et-de-lait/
SUMMARY:Etranges lectures | "De Pain et De Lait"
DESCRIPTION: "De pain et de lait" en présence de l'autrice Karolina Ramqvi
 st.\n\nSuis-je aujourd'hui ce que j'ai mangé hier ? De quoi ai-je hérit
 é au moment de passer à table ?\n\nDans "De pain et de lait"\, Karolina 
 Ramqvist explore ses madeleines proustiennes et nous invite à découvrir 
 l'histoire culinaire et affective d'une famille sur trois générations.\n
 \nTout en retraçant son autobiographie par le prisme de la nourriture\, K
 arolina Ramqvist interroge avec délicatesse ce qui l'a construite\, et ce
  qu'elle tente de transmettre.\n\nEntrées libres et gratuites.
CATEGORIES:Spectacle
LOCATION:Salle des fêtes\, Salle des fêtes\, Lamonzie-Saint-Martin\, Fran
 ce
GEO:44.8408393;0.3816199
X-APPLE-STRUCTURED-LOCATION;VALUE=URI;X-ADDRESS=Salle des fêtes\, Lamonzie
 -Saint-Martin\, France;X-APPLE-RADIUS=100;X-TITLE=Salle des fêtes:geo:44.
 8408393,0.3816199
END:VEVENT
BEGIN:VTIMEZONE
TZID:Europe/Paris
X-LIC-LOCATION:Europe/Paris
BEGIN:STANDARD
DTSTART:20251026T020000
TZOFFSETFROM:+0200
TZOFFSETTO:+0100
TZNAME:CET
END:STANDARD
END:VTIMEZONE
END:VCALENDAR