BEGIN:VCALENDAR
VERSION:2.0
PRODID:-//wp-events-plugin.com//7.2.3.1//EN
TZID:Europe/Paris
X-WR-TIMEZONE:Europe/Paris
BEGIN:VEVENT
UID:5106@agenda24.fr
DTSTART;TZID=Europe/Paris:20250313T133000
DTEND;TZID=Europe/Paris:20250313T173000
DTSTAMP:20250213T093421Z
URL:https://agenda24.fr/evenements/et-si-on-demystifiait-les-reseaux-socia
 ux/
SUMMARY:Et si on démystifiait les réseaux sociaux?
DESCRIPTION:Atelier animé par Sandrine Plancke
CATEGORIES:Rencontre / Conférence / Discussion
LOCATION:Le HanGare\, Rue Pierre Sémard\, Thiviers\, France
GEO:45.4181459;0.92055737
X-APPLE-STRUCTURED-LOCATION;VALUE=URI;X-ADDRESS=Rue Pierre Sémard\, Thivie
 rs\, France;X-APPLE-RADIUS=100;X-TITLE=Le HanGare:geo:45.4181459,0.9205573
 7
END:VEVENT
BEGIN:VTIMEZONE
TZID:Europe/Paris
X-LIC-LOCATION:Europe/Paris
BEGIN:STANDARD
DTSTART:20241027T020000
TZOFFSETFROM:+0200
TZOFFSETTO:+0100
TZNAME:CET
END:STANDARD
END:VTIMEZONE
END:VCALENDAR