BEGIN:VCALENDAR
VERSION:2.0
PRODID:-//wp-events-plugin.com//7.2.3.1//EN
TZID:Europe/Paris
X-WR-TIMEZONE:Europe/Paris
BEGIN:VEVENT
UID:10813@agenda24.fr
DTSTART;TZID=Europe/Paris:20260307T110000
DTEND;TZID=Europe/Paris:20260307T234500
DTSTAMP:20260304T232439Z
URL:https://agenda24.fr/evenements/et-si-josais-festival-au-hangare/
SUMMARY:Et si j'osais ? Festival au Hangare
DESCRIPTION:Une journée pour questionner\, expérimenter\, partager et se 
 rencontrer autour des droits des femmes.\nDans le cadre de la journée de 
 lutte pour les droits des femmes\, viens vivre une journée riche en renco
 ntres et en découvertes : Ateliers &amp\; animations autour du voyage en
  solo\, de la sexualité\, du consentement\, des limites\, du corps\, de l
 a danse\, des outils\, du vélo\, de la tronçonneuse\, initiation DJ... 
 Espaces enfants et ados : contes qui déconstruisent les genres\, échange
 s et créations autour de l’identité Café &amp\; stands : expositions
 \, infos\, solidarité\, entrepreneuriat\, contraception\, don d’ovocyte
 s Oser être soi : coiffure\, maquillage\, photo Restauration midi et so
 ir\, Bar &amp\; café ouverts 21h : Bal Trad avec Ronzes 22h30 : Gigi DJ
ATTACH;FMTTYPE=image/jpeg:https://agenda24.fr/wp-content/uploads/2026/02/6
 41282767_937011829014333_3402124808512731299_n.jpg
CATEGORIES:Festival
LOCATION:L'HanGare\, Rue Pierre Sémard\, Thiviers\, France
GEO:45.4181459;0.92055737
X-APPLE-STRUCTURED-LOCATION;VALUE=URI;X-ADDRESS=Rue Pierre Sémard\, Thivie
 rs\, France;X-APPLE-RADIUS=100;X-TITLE=L'HanGare:geo:45.4181459,0.92055737
END:VEVENT
BEGIN:VTIMEZONE
TZID:Europe/Paris
X-LIC-LOCATION:Europe/Paris
BEGIN:STANDARD
DTSTART:20251026T020000
TZOFFSETFROM:+0200
TZOFFSETTO:+0100
TZNAME:CET
END:STANDARD
END:VTIMEZONE
END:VCALENDAR