BEGIN:VCALENDAR
VERSION:2.0
PRODID:-//wp-events-plugin.com//7.2.3.1//EN
TZID:Europe/Paris
X-WR-TIMEZONE:Europe/Paris
BEGIN:VEVENT
UID:5891@agenda24.fr
DTSTART;TZID=Europe/Paris:20250419T100000
DTEND;TZID=Europe/Paris:20250419T170000
DTSTAMP:20250326T140705Z
URL:https://agenda24.fr/evenements/escape-game-familial/
SUMMARY:Escape Game Familial
DESCRIPTION:Enfermé par des voleurs dans la cuisine du Château\, vous dev
 rez prévenir le propriétaire qu’ils pillent la cave. Vous disposerez d
 e 30 minutes pour résoudre 12 énigmes et trouvez la clé qui vous permet
 tra de sortir de la pièce. Les énigmes sont pour petits et grands\, et t
 ournent autour de la cuisine\, du vin et de la propriété.\n\nL’escape 
 game est disponible toutes les heures.\n\nRéservation recommandée par t
 éléphone\, par e-mail ou sur place (car places limitées).\n\nCette anim
 ation est prévue en intérieur. 
CATEGORIES:Jeux
LOCATION:Château de Panisseau\, 201 Route de Panisseau\, Thénac\, France
GEO:44.760454;0.3647217
X-APPLE-STRUCTURED-LOCATION;VALUE=URI;X-ADDRESS=201 Route de Panisseau\, Th
 énac\, France;X-APPLE-RADIUS=100;X-TITLE=Château de Panisseau:geo:44.760
 454,0.3647217
END:VEVENT
BEGIN:VTIMEZONE
TZID:Europe/Paris
X-LIC-LOCATION:Europe/Paris
BEGIN:DAYLIGHT
DTSTART:20250330T030000
TZOFFSETFROM:+0100
TZOFFSETTO:+0200
TZNAME:CEST
END:DAYLIGHT
END:VTIMEZONE
END:VCALENDAR