BEGIN:VCALENDAR
VERSION:2.0
PRODID:-//wp-events-plugin.com//7.2.3.1//EN
TZID:Europe/Paris
X-WR-TIMEZONE:Europe/Paris
BEGIN:VEVENT
UID:5171@agenda24.fr
DTSTART;TZID=Europe/Paris:20250306T143000
DTEND;TZID=Europe/Paris:20250306T143000
DTSTAMP:20250213T093358Z
URL:https://agenda24.fr/evenements/escape-game-enquete-fantastique-a-poudl
 ard-2/
SUMMARY:Escape game "Enquête fantastique à Poudlard"
DESCRIPTION:La médiathèque municipale de Lalinde vous invite à découvri
 r ou redécouvrir l'univers fantastique de la saga littéraire de J-K Rowl
 ing.\nAu programme : escape game "Enquête fantastique à Poudlard". Dès 
 8 ans.\n\nSur inscription\, présence d'un adulte obligatoire.
CATEGORIES:Dédié aux enfants
LOCATION:Médiathèque\, Médiathèque\, Lalinde\, France
GEO:44.83602;0.74009
X-APPLE-STRUCTURED-LOCATION;VALUE=URI;X-ADDRESS=Médiathèque\, Lalinde\, F
 rance;X-APPLE-RADIUS=100;X-TITLE=Médiathèque:geo:44.83602,0.74009
END:VEVENT
BEGIN:VTIMEZONE
TZID:Europe/Paris
X-LIC-LOCATION:Europe/Paris
BEGIN:STANDARD
DTSTART:20241027T020000
TZOFFSETFROM:+0200
TZOFFSETTO:+0100
TZNAME:CET
END:STANDARD
END:VTIMEZONE
END:VCALENDAR