BEGIN:VCALENDAR
VERSION:2.0
PRODID:-//wp-events-plugin.com//7.2.3.1//EN
TZID:Europe/Paris
X-WR-TIMEZONE:Europe/Paris
BEGIN:VEVENT
UID:10358@agenda24.fr
DTSTART;TZID=Europe/Paris:20251220T190000
DTEND;TZID=Europe/Paris:20251220T190000
DTSTAMP:20251210T135536Z
URL:https://agenda24.fr/evenements/equiperigord-spectacle-de-noel-retour-v
 ers-le-futur/
SUMMARY:Equi'Périgord: Spectacle de Noël "Retour vers le futur"
DESCRIPTION:Retour vers le futur à Equi Périgord\nSamedi 20 décembre à 
 19h\nLe spectacle de Noël des cavaliers du centre équestre \nEntrée gra
 tuite-Tombola\nRestauration sur réservation \nPechboutier à Saint Cyprie
 n\nInfo-Réservations: 05 53 29 61 45
CATEGORIES:Spectacle
LOCATION:Saint-Cyprien\, Saint-Cyprien\, Saint-Cyprien\, France
GEO:44.90158;1.04185
X-APPLE-STRUCTURED-LOCATION;VALUE=URI;X-ADDRESS=Saint-Cyprien\, Saint-Cypri
 en\, France;X-APPLE-RADIUS=100;X-TITLE=Saint-Cyprien:geo:44.90158,1.04185
END:VEVENT
BEGIN:VTIMEZONE
TZID:Europe/Paris
X-LIC-LOCATION:Europe/Paris
BEGIN:STANDARD
DTSTART:20251026T020000
TZOFFSETFROM:+0200
TZOFFSETTO:+0100
TZNAME:CET
END:STANDARD
END:VTIMEZONE
END:VCALENDAR