BEGIN:VCALENDAR
VERSION:2.0
PRODID:-//wp-events-plugin.com//7.2.3.1//EN
TZID:Europe/Paris
X-WR-TIMEZONE:Europe/Paris
BEGIN:VEVENT
UID:11866@agenda24.fr
DTSTART;TZID=Europe/Paris:20260313T210000
DTEND;TZID=Europe/Paris:20260313T210000
DTSTAMP:20260301T135836Z
URL:https://agenda24.fr/evenements/en-piste/
SUMMARY:En Piste
DESCRIPTION:A 21h à la Salle des  Fêtes  \nSpectacle de Mime\nDeux acolyt
 es à l'esprit taquin débarquent en selle sur leur triporteur pour instal
 ler un moment festif... Un bal s'improvise dans l'instant... Le charme de 
 l'orgue de barbarie et l'espièglerie de ces deux complices tissent un mom
 ent unique\, improbable et joyeux.\nTarif 15€ (plein) /12€ (adhérents
 )/Gratuit (-de 18 ans)\nRenseignements/Réservations 06 79 98 87 09 – 06
  61 56 62 94\nOrganisé par Itinérance Culturelle en Terrassonnais et Foy
 er Rural \n
CATEGORIES:Spectacle
LOCATION:La Feuillade\, La Feuillade\, La Feuillade\, France
GEO:45.116197;1.400224
X-APPLE-STRUCTURED-LOCATION;VALUE=URI;X-ADDRESS=La Feuillade\, La Feuillade
 \, France;X-APPLE-RADIUS=100;X-TITLE=La Feuillade:geo:45.116197,1.400224
END:VEVENT
BEGIN:VTIMEZONE
TZID:Europe/Paris
X-LIC-LOCATION:Europe/Paris
BEGIN:STANDARD
DTSTART:20251026T020000
TZOFFSETFROM:+0200
TZOFFSETTO:+0100
TZNAME:CET
END:STANDARD
END:VTIMEZONE
END:VCALENDAR