BEGIN:VCALENDAR
VERSION:2.0
PRODID:-//wp-events-plugin.com//7.2.3.1//EN
TZID:Europe/Paris
X-WR-TIMEZONE:Europe/Paris
BEGIN:VEVENT
UID:10810@agenda24.fr
DTSTART;TZID=Europe/Paris:20260308T120000
DTEND;TZID=Europe/Paris:20260308T150000
DTSTAMP:20260304T232653Z
URL:https://agenda24.fr/evenements/elles-improvisent-impro-de-femmes/
SUMMARY:Elles improvisent - Impro de femmes
DESCRIPTION:ELLES IMPROVISENT ! Brunch &amp\; Cabaret d'Impro 100 % fémini
 n de la LID Ligue d'Impro de la Dordogne : Une équipe de comédiennes imp
 rovisera des scènes uniques sur des thèmes variés qui s'articuleront au
 tour des droits des femmes. Mais aussi\, la chorale les Frangines chantera
  des chants féministes à 13h30. Le cabaret d'impro aura lieu à 14h\, pe
 ndant 1h. Un brunch sera proposé par le food truck présent à la BAM. 
 📅 Dimanche 8 mars 🕓 À partir de 12h00\, jusqu'à 15h00 📍 À la B
 AM\n\n\n\n\n🎉ELLES IMPROVISENT !\n\nBrunch &amp\; Cabaret d'Impro 100 %
  féminin de la LID Ligue d'Impro de la Dordogne : Une équipe de comédie
 nnes improvisera des scènes uniques sur des thèmes variés qui s'articul
 eront autour des droits des femmes. Mais aussi\, la chorale les Frangines 
 chantera des chants féministes à 13h30. Le cabaret d'impro aura lieu à 
 14h\, pendant 1h. Un brunch sera proposé par le food truck présent à la
  BAM.\n\n📅 Dimanche 8 mars🕓 À partir de 12h00\, jusqu'à 15h00\n\n1
 3h30 : Chorale Les Frangines\n\n14h00-15h00 : Cabaret d'Impro avec la LID
 📍 À la BAM\n\n🎟 La billetterie est ouverte\, réservez vos places d
 ès maintenant et venez profiter avec nous !\n\nCo-orga : Ligue d'Impro de
  la Dordogne\, la Chorale les Frangines\, la BAM &amp\; la Ville de Périg
 ueux\n\n\n\n\n
CATEGORIES:Spectacle
LOCATION:BAM\, 105 Rue Pierre Magne\, Périgueux\, 24000\, France
X-APPLE-STRUCTURED-LOCATION;VALUE=URI;X-ADDRESS=105 Rue Pierre Magne\, Pér
 igueux\, 24000\, France;X-APPLE-RADIUS=100;X-TITLE=BAM:geo:0,0
END:VEVENT
BEGIN:VTIMEZONE
TZID:Europe/Paris
X-LIC-LOCATION:Europe/Paris
BEGIN:STANDARD
DTSTART:20251026T020000
TZOFFSETFROM:+0200
TZOFFSETTO:+0100
TZNAME:CET
END:STANDARD
END:VTIMEZONE
END:VCALENDAR