BEGIN:VCALENDAR
VERSION:2.0
PRODID:-//wp-events-plugin.com//7.2.3.1//EN
TZID:Europe/Paris
X-WR-TIMEZONE:Europe/Paris
BEGIN:VEVENT
UID:11665@agenda24.fr
DTSTART;TZID=Europe/Paris:20260321T150000
DTEND;TZID=Europe/Paris:20260321T170000
DTSTAMP:20260227T111705Z
URL:https://agenda24.fr/evenements/ecoute-de-podcast/
SUMMARY:Ecoute de Podcast
DESCRIPTION:Ecoute du Podcast "Male et female Gaze" par Les Couilles sur la
  table\, pour comprendre les points de vue genrés courants au cinéma.\n\
 nà la médiathèque de Thiviers\, événement co-organisé avec Femmes So
 lidaires Périgord Vert.\n\nun échange suivra l'écoute du podcast.
CATEGORIES:Evènement à thème
LOCATION:Médiathèque Thiviers\, place du champ de foire\, Thiviers\, Dord
 ogne\, 24800\, Nouvelle Aquitaine\, France
X-APPLE-STRUCTURED-LOCATION;VALUE=URI;X-ADDRESS=place du champ de foire\, T
 hiviers\, Dordogne\, 24800\, Nouvelle Aquitaine\, France;X-APPLE-RADIUS=10
 0;X-TITLE=Médiathèque Thiviers:geo:0,0
END:VEVENT
BEGIN:VTIMEZONE
TZID:Europe/Paris
X-LIC-LOCATION:Europe/Paris
BEGIN:STANDARD
DTSTART:20251026T020000
TZOFFSETFROM:+0200
TZOFFSETTO:+0100
TZNAME:CET
END:STANDARD
END:VTIMEZONE
END:VCALENDAR