BEGIN:VCALENDAR
VERSION:2.0
PRODID:-//wp-events-plugin.com//7.2.3.1//EN
TZID:Europe/Paris
X-WR-TIMEZONE:Europe/Paris
BEGIN:VEVENT
UID:10209@agenda24.fr
DTSTART;TZID=Europe/Paris:20251211T090000
DTEND;TZID=Europe/Paris:20251211T130000
DTSTAMP:20251210T134244Z
URL:https://agenda24.fr/evenements/don-du-sang-2/
SUMMARY:Don du sang
DESCRIPTION:Le don de sang est un geste généreux qui relie entre eux une 
 multitude d’acteurs : donneurs de sang\, associations\, bénévoles enga
 gés pour le don\, patients et leurs proches\, soignants\, établissements
  de santé\, élus\, pouvoirs publics\, collaborateurs de l’EFS\, etc.\n
 \nConditions : Avoir entre 18 et 70 ans révolus\, peser + de 50 kg. Se mu
 nir d'une pièce d'identité.
CATEGORIES:Evènement à thème
LOCATION:Salle Jacques Brel\, Avenue du Général Leclerc\, Lalinde\, Franc
 e
GEO:44.838954;0.7403
X-APPLE-STRUCTURED-LOCATION;VALUE=URI;X-ADDRESS=Avenue du Général Leclerc
 \, Lalinde\, France;X-APPLE-RADIUS=100;X-TITLE=Salle Jacques Brel:geo:44.8
 38954,0.7403
END:VEVENT
BEGIN:VTIMEZONE
TZID:Europe/Paris
X-LIC-LOCATION:Europe/Paris
BEGIN:STANDARD
DTSTART:20251026T020000
TZOFFSETFROM:+0200
TZOFFSETTO:+0100
TZNAME:CET
END:STANDARD
END:VTIMEZONE
END:VCALENDAR