BEGIN:VCALENDAR
VERSION:2.0
PRODID:-//wp-events-plugin.com//7.2.3.1//EN
TZID:Europe/Paris
X-WR-TIMEZONE:Europe/Paris
BEGIN:VEVENT
UID:9688@agenda24.fr
DTSTART;TZID=Europe/Paris:20251113T203000
DTEND;TZID=Europe/Paris:20251113T203000
DTSTAMP:20251101T090446Z
URL:https://agenda24.fr/evenements/dom-juan/
SUMMARY:Dom Juan
DESCRIPTION:Succès au Festival off Avignon 2024 à la Factory\n\nDom Juan 
 est introuvable. Accusé de fuite et de trahison par la famille de sa prom
 ise Dona Elvire\, une chasse à l'homme s'engage. Sganarelle\, meilleur am
 i et serviteur de Dom Juan\, tente de raisonner ce dernier pendant leur p
 ériple pour lui éviter une mort certaine. Dom Juan est déjà à la rech
 erche d'un nouveau cœur à séduire...\n\nDans cette adaptation moderne e
 t familiale\, libre des contraintes du classique\, Molière côtoie le rap
  et la jeunesse\, dans une ambiance ghetto empruntant ses références à 
 la culture contemporaine. L’impro\, le rap et l’énergie d’une jeune
 sse française\, qui trouve son identité dans des codes urbains\, sont au
  cœur de la mise en scène.
CATEGORIES:Spectacle
LOCATION:Centre Culturel\, Centre Culturel \, Sarlat-La-Canéda\, France
GEO:44.8863587;1.21660709
X-APPLE-STRUCTURED-LOCATION;VALUE=URI;X-ADDRESS=Centre Culturel \, Sarlat-L
 a-Canéda\, France;X-APPLE-RADIUS=100;X-TITLE=Centre Culturel:geo:44.88635
 87,1.21660709
END:VEVENT
BEGIN:VTIMEZONE
TZID:Europe/Paris
X-LIC-LOCATION:Europe/Paris
BEGIN:STANDARD
DTSTART:20251026T020000
TZOFFSETFROM:+0200
TZOFFSETTO:+0100
TZNAME:CET
END:STANDARD
END:VTIMEZONE
END:VCALENDAR