BEGIN:VCALENDAR
VERSION:2.0
PRODID:-//wp-events-plugin.com//7.2.3.1//EN
TZID:Europe/Paris
X-WR-TIMEZONE:Europe/Paris
BEGIN:VEVENT
UID:8324@agenda24.fr
DTSTART;TZID=Europe/Paris:20251031T190000
DTEND;TZID=Europe/Paris:20251031T230000
DTSTAMP:20250907T164346Z
URL:https://agenda24.fr/evenements/dischalloween-ginguette-du-touroulet/
SUMMARY:Disc'Halloween - Ginguette du Touroulet
DESCRIPTION:Soirée déguisée et DJ Set\n\nRestauration à partir de 19h !
CATEGORIES:Concert,Evènement à thème
LOCATION:Le cocon des canailles\, Le cocon des canailles\, Chalais\, France
GEO:45.50201;0.91325
X-APPLE-STRUCTURED-LOCATION;VALUE=URI;X-ADDRESS=Le cocon des canailles\, Ch
 alais\, France;X-APPLE-RADIUS=100;X-TITLE=Le cocon des canailles:geo:45.50
 201,0.91325
END:VEVENT
BEGIN:VTIMEZONE
TZID:Europe/Paris
X-LIC-LOCATION:Europe/Paris
BEGIN:STANDARD
DTSTART:20251026T020000
TZOFFSETFROM:+0200
TZOFFSETTO:+0100
TZNAME:CET
END:STANDARD
END:VTIMEZONE
END:VCALENDAR