BEGIN:VCALENDAR
VERSION:2.0
PRODID:-//wp-events-plugin.com//7.2.3.1//EN
TZID:Europe/Paris
X-WR-TIMEZONE:Europe/Paris
BEGIN:VEVENT
UID:9723@agenda24.fr
DTSTART;TZID=Europe/Paris:20251127T140000
DTEND;TZID=Europe/Paris:20251127T140000
DTSTAMP:20251101T090449Z
URL:https://agenda24.fr/evenements/diffusion-la-traviata/
SUMMARY:Diffusion La Traviata
DESCRIPTION:L'Opéra national de Paris et la Micro-Folie vous proposent La 
 Traviata de Giuseppe Verdi\, diffusé sur le grand écran du centre multim
 édia.\n\nDans cette mise en scène contemporaine signée Simon Stone\, Vi
 oletta n’est plus une courtisane du XIXe siècle\, mais une star des ré
 seaux sociaux. Elle vit de son image\, partage son quotidien en stories\, 
 multiplie les selfies. Une figure d’aujourd’hui\, exposée\, admirée\
 , mais toujours jugée. \n\nCette relecture moderne ne trahit pas l’œuv
 re : elle en éclaire au contraire toute la puissance. Elle prolonge le re
 gard critique de Verdi sur la place des femmes dans la société\, et donn
 e une résonance nouvelle à l’air emblématique Sempre libera (« Toujo
 urs libre »)\, qui devient ici plus que jamais un cri de résistance.\n\n
 14h Centre Multimédia. Gratuit. Réservation conseillée.\n\nCentre Multi
 média 05 53 80 09 88
CATEGORIES:Spectacle
LOCATION:6 rue des Frères Pouget\, 6 rue des Frères Pouget\, Neuvic\, Fra
 nce
GEO:45.0978869;0.47155465
X-APPLE-STRUCTURED-LOCATION;VALUE=URI;X-ADDRESS=6 rue des Frères Pouget\, 
 Neuvic\, France;X-APPLE-RADIUS=100;X-TITLE=6 rue des Frères Pouget:geo:45
 .0978869,0.47155465
END:VEVENT
BEGIN:VTIMEZONE
TZID:Europe/Paris
X-LIC-LOCATION:Europe/Paris
BEGIN:STANDARD
DTSTART:20251026T020000
TZOFFSETFROM:+0200
TZOFFSETTO:+0100
TZNAME:CET
END:STANDARD
END:VTIMEZONE
END:VCALENDAR