BEGIN:VCALENDAR
VERSION:2.0
PRODID:-//wp-events-plugin.com//7.2.3.1//EN
TZID:Europe/Paris
X-WR-TIMEZONE:Europe/Paris
BEGIN:VEVENT
UID:10811@agenda24.fr
DTSTART;TZID=Europe/Paris:20260311T143000
DTEND;TZID=Europe/Paris:20260311T160000
DTSTAMP:20260304T233030Z
URL:https://agenda24.fr/evenements/desoeuvrer-les-stereotypes/
SUMMARY:Désoeuvrer les stéréotypes
DESCRIPTION:Etudiants du BUT "carrières sociales" proposent des animations
  théâtrales sur les stéréotypes du genre.
ATTACH;FMTTYPE=image/jpeg:https://agenda24.fr/wp-content/uploads/2026/02/C
 apture-decran-2026-02-25-a-09.17.58.png
CATEGORIES:Spectacle
LOCATION:Musée d'Art et d'Archéologie du Périgord\, 22 cours Tourny\, P
 érigueux\, France
GEO:45.186107;0.723093
X-APPLE-STRUCTURED-LOCATION;VALUE=URI;X-ADDRESS=22 cours Tourny\, Périgueu
 x\, France;X-APPLE-RADIUS=100;X-TITLE=Musée d'Art et d'Archéologie du P
 érigord:geo:45.186107,0.723093
END:VEVENT
BEGIN:VTIMEZONE
TZID:Europe/Paris
X-LIC-LOCATION:Europe/Paris
BEGIN:STANDARD
DTSTART:20251026T020000
TZOFFSETFROM:+0200
TZOFFSETTO:+0100
TZNAME:CET
END:STANDARD
END:VTIMEZONE
END:VCALENDAR