BEGIN:VCALENDAR
VERSION:2.0
PRODID:-//wp-events-plugin.com//7.2.3.1//EN
TZID:Europe/Paris
X-WR-TIMEZONE:Europe/Paris
BEGIN:VEVENT
UID:3825@agenda24.fr
DTSTART;TZID=Europe/Paris:20241206T180000
DTEND;TZID=Europe/Paris:20241206T180000
DTSTAMP:20241030T085702Z
URL:https://agenda24.fr/evenements/decouverte-des-saisons-par-des-pieges-p
 hotos-3/
SUMMARY:Découverte des saisons par des pièges photos
DESCRIPTION:
CATEGORIES:Dédié aux enfants
LOCATION:Le Bourg\, Rdv au Restaurant Le Frugie\, Saint-Pierre-de-Frugie\, 
 France
GEO:45.5744120;0.9981820
X-APPLE-STRUCTURED-LOCATION;VALUE=URI;X-ADDRESS=Rdv au Restaurant Le Frugie
 \, Saint-Pierre-de-Frugie\, France;X-APPLE-RADIUS=100;X-TITLE=Le Bourg:geo
 :45.5744120,0.9981820
END:VEVENT
BEGIN:VTIMEZONE
TZID:Europe/Paris
X-LIC-LOCATION:Europe/Paris
BEGIN:STANDARD
DTSTART:20241027T020000
TZOFFSETFROM:+0200
TZOFFSETTO:+0100
TZNAME:CET
END:STANDARD
END:VTIMEZONE
END:VCALENDAR