BEGIN:VCALENDAR
VERSION:2.0
PRODID:-//wp-events-plugin.com//7.2.3.1//EN
TZID:Europe/Paris
X-WR-TIMEZONE:Europe/Paris
BEGIN:VEVENT
UID:9700@agenda24.fr
DTSTART;TZID=Europe/Paris:20251125T203000
DTEND;TZID=Europe/Paris:20251125T203000
DTSTAMP:20251101T090447Z
URL:https://agenda24.fr/evenements/debout-les-singes/
SUMMARY:Debout les singes !
DESCRIPTION:Cette pièce est dédiée à Yves Coppens\, curieux de notre su
 jet et correcteur scientifique de nos premières écritures.\n\nUn zoo\, u
 ne fin d’après-midi. Devant l’enclos des chimpanzés\, un agent d’e
 ntretien\, balai à la main\, regarde les singes. Arrive une paléoanthrop
 ologue. De la rencontre de ces deux personnages va naître un récit de l
 ’évolution de l’humanité qui aura l’extravagante mission d’infor
 mer nos cousins les singes sur notre histoire commune.
CATEGORIES:Spectacle
LOCATION:Centre Culturel\, Centre Culturel\, Sarlat-La-Canéda\, France
GEO:44.8930677;1.2144238
X-APPLE-STRUCTURED-LOCATION;VALUE=URI;X-ADDRESS=Centre Culturel\, Sarlat-La
 -Canéda\, France;X-APPLE-RADIUS=100;X-TITLE=Centre Culturel:geo:44.893067
 7,1.2144238
END:VEVENT
BEGIN:VTIMEZONE
TZID:Europe/Paris
X-LIC-LOCATION:Europe/Paris
BEGIN:STANDARD
DTSTART:20251026T020000
TZOFFSETFROM:+0200
TZOFFSETTO:+0100
TZNAME:CET
END:STANDARD
END:VTIMEZONE
END:VCALENDAR