BEGIN:VCALENDAR
VERSION:2.0
PRODID:-//wp-events-plugin.com//7.2.3.1//EN
TZID:Europe/Paris
X-WR-TIMEZONE:Europe/Paris
BEGIN:VEVENT
UID:10834@agenda24.fr
DTSTART;TZID=Europe/Paris:20260313T203000
DTEND;TZID=Europe/Paris:20260313T223000
DTSTAMP:20260227T151521Z
URL:https://agenda24.fr/evenements/dawa-salfati-concert-folk-intimiste/
SUMMARY:DAWA SALFATI | CONCERT FOLK INTIMISTE
DESCRIPTION:Le ressac des vagues où l'on retrouve ses origines îliennes :
  \nc'est là\, la profondeur organique de Dawa Salfati. \nMusique émoti
 onnelle\, elle créée des chansons porteuses d'un message du monde. \nLib
 re\, singulière et sauvage\, c'est le chant de la femme qui parle aux cor
 ps et aux cœurs de tou·tes.
CATEGORIES:Concert
LOCATION:Au Cocagne\, 5 bis rue Salomon Place Saint Louis\, Périgueux\, 24
 000\, France
X-APPLE-STRUCTURED-LOCATION;VALUE=URI;X-ADDRESS=5 bis rue Salomon Place Sai
 nt Louis\, Périgueux\, 24000\, France;X-APPLE-RADIUS=100;X-TITLE=Au Cocag
 ne:geo:0,0
END:VEVENT
BEGIN:VTIMEZONE
TZID:Europe/Paris
X-LIC-LOCATION:Europe/Paris
BEGIN:STANDARD
DTSTART:20251026T020000
TZOFFSETFROM:+0200
TZOFFSETTO:+0100
TZNAME:CET
END:STANDARD
END:VTIMEZONE
END:VCALENDAR