BEGIN:VCALENDAR
VERSION:2.0
PRODID:-//wp-events-plugin.com//7.2.3.1//EN
TZID:Europe/Paris
X-WR-TIMEZONE:Europe/Paris
BEGIN:VEVENT
UID:4494@agenda24.fr
DTSTART;TZID=Europe/Paris:20250105T150000
DTEND;TZID=Europe/Paris:20250105T150000
DTSTAMP:20241214T154050Z
URL:https://agenda24.fr/evenements/danse-et-cinema-hommage-a-loie-fuller/
SUMMARY:Danse et Cinéma - Hommage à Loïe Fuller
DESCRIPTION:
CATEGORIES:Spectacle
LOCATION:Studio 53\, Espace Agora\, Boulazac Isle Manoire\, France
GEO:45.1819387;0.76280460
X-APPLE-STRUCTURED-LOCATION;VALUE=URI;X-ADDRESS=Espace Agora\, Boulazac Isl
 e Manoire\, France;X-APPLE-RADIUS=100;X-TITLE=Studio 53:geo:45.1819387,0.7
 6280460
END:VEVENT
BEGIN:VTIMEZONE
TZID:Europe/Paris
X-LIC-LOCATION:Europe/Paris
BEGIN:STANDARD
DTSTART:20241027T020000
TZOFFSETFROM:+0200
TZOFFSETTO:+0100
TZNAME:CET
END:STANDARD
END:VTIMEZONE
END:VCALENDAR