BEGIN:VCALENDAR
VERSION:2.0
PRODID:-//wp-events-plugin.com//7.2.3.1//EN
TZID:Europe/Paris
X-WR-TIMEZONE:Europe/Paris
BEGIN:VEVENT
UID:9699@agenda24.fr
DTSTART;TZID=Europe/Paris:20251119T190000
DTEND;TZID=Europe/Paris:20251119T190000
DTSTAMP:20251101T090447Z
URL:https://agenda24.fr/evenements/danse-afro-contemporaine/
SUMMARY:Danse Afro contemporaine
DESCRIPTION:Entre tradition et modernité vous découvrerez les danses cont
 emplatives ou dynamiques pour un corps libre et créatif. Animé par Habi.
  Sur réservation.
CATEGORIES:Spectacle
LOCATION:Salle des fêtes\, 347 route de Trieux\, Champniers-et-Reilhac\, F
 rance
GEO:45.6723241;0.731132
X-APPLE-STRUCTURED-LOCATION;VALUE=URI;X-ADDRESS=347 route de Trieux\, Champ
 niers-et-Reilhac\, France;X-APPLE-RADIUS=100;X-TITLE=Salle des fêtes:geo:
 45.6723241,0.731132
END:VEVENT
BEGIN:VTIMEZONE
TZID:Europe/Paris
X-LIC-LOCATION:Europe/Paris
BEGIN:STANDARD
DTSTART:20251026T020000
TZOFFSETFROM:+0200
TZOFFSETTO:+0100
TZNAME:CET
END:STANDARD
END:VTIMEZONE
END:VCALENDAR