BEGIN:VCALENDAR
VERSION:2.0
PRODID:-//wp-events-plugin.com//7.2.3.1//EN
TZID:Europe/Paris
X-WR-TIMEZONE:Europe/Paris
BEGIN:VEVENT
UID:11897@agenda24.fr
DTSTART;TZID=Europe/Paris:20260320T203000
DTEND;TZID=Europe/Paris:20260320T203000
DTSTAMP:20260301T135819Z
URL:https://agenda24.fr/evenements/dans-les-forets-de-siberie/
SUMMARY:Dans les Forêts de Sibérie
DESCRIPTION:A 20h30  au Centre Culturel par la Compagnie Théâtre de l' Et
 reinte  \nWilliam Mesguich nous fait revivre sur scène\nl’expérience s
 ingulière de l’écrivain-aventure Sylvain Tesson\, parti chercher la li
 berté au cœur des  forêts de Sibérie.\n durée 1h20\nPlein tarif 6€/
  Tarif réduit 5€ \nRenseignements et Réservations : 05 53 50 13 80 / c
 ulture@ville-terrasson.com\n\n\n
CATEGORIES:Spectacle
LOCATION:Terrasson-Lavilledieu\, Terrasson-Lavilledieu\, Terrasson-Lavilled
 ieu\, France
GEO:45.1297814;1.3022837
X-APPLE-STRUCTURED-LOCATION;VALUE=URI;X-ADDRESS=Terrasson-Lavilledieu\, Ter
 rasson-Lavilledieu\, France;X-APPLE-RADIUS=100;X-TITLE=Terrasson-Lavilledi
 eu:geo:45.1297814,1.3022837
END:VEVENT
BEGIN:VTIMEZONE
TZID:Europe/Paris
X-LIC-LOCATION:Europe/Paris
BEGIN:STANDARD
DTSTART:20251026T020000
TZOFFSETFROM:+0200
TZOFFSETTO:+0100
TZNAME:CET
END:STANDARD
END:VTIMEZONE
END:VCALENDAR