BEGIN:VCALENDAR
VERSION:2.0
PRODID:-//wp-events-plugin.com//7.2.3.1//EN
TZID:Europe/Paris
X-WR-TIMEZONE:Europe/Paris
BEGIN:VEVENT
UID:11708@agenda24.fr
DTSTART;TZID=Europe/Paris:20260307T100000
DTEND;TZID=Europe/Paris:20260307T170000
DTSTAMP:20260301T135042Z
URL:https://agenda24.fr/evenements/creer-amenager-et-entretenir-une-mare-a
 vec-alexandre-bauw/
SUMMARY:Créer\, Aménager et entretenir une mare avec Alexandre Bauw
DESCRIPTION:Créer\, Aménager et entretenir une mare avec Alexandre Bauw\,
  samedi 7 mars de 10h à 17h à Besse.\n10h : Accueil et présentations \n
 11h : Visite de 6 mares différentes avec découverte de la faune et de la
  flore.\n12h30 : Repas en auberge espagnole\n14h : Initiation à la baguet
 te de sourcier pour détecter l'eau souterraine\n15h : Discussion et quest
 ions sur différentes thématiques \n17h : Retour sur l'animation \nTarif 
 : 40euros / Réservation : 06 70 19 75 61 
CATEGORIES:Atelier / Stage
LOCATION:Le colombier\, Le colombier\, Besse\, France
GEO:44.66931;1.10743
X-APPLE-STRUCTURED-LOCATION;VALUE=URI;X-ADDRESS=Le colombier\, Besse\, Fran
 ce;X-APPLE-RADIUS=100;X-TITLE=Le colombier:geo:44.66931,1.10743
END:VEVENT
BEGIN:VTIMEZONE
TZID:Europe/Paris
X-LIC-LOCATION:Europe/Paris
BEGIN:STANDARD
DTSTART:20251026T020000
TZOFFSETFROM:+0200
TZOFFSETTO:+0100
TZNAME:CET
END:STANDARD
END:VTIMEZONE
END:VCALENDAR