BEGIN:VCALENDAR
VERSION:2.0
PRODID:-//wp-events-plugin.com//7.2.3.1//EN
TZID:Europe/Paris
X-WR-TIMEZONE:Europe/Paris
BEGIN:VEVENT
UID:8326@agenda24.fr
DTSTART;TZID=Europe/Paris:20250913T140000
DTEND;TZID=Europe/Paris:20250913T170000
DTSTAMP:20250907T170145Z
URL:https://agenda24.fr/evenements/course-de-caisses-a-savon-2/
SUMMARY:Course de caisses à savon
DESCRIPTION:Préparez-vous à vivre une journée pleine de sensations avec 
 la course de caisses à savon agrémenté de nombreuses surprises pour le 
 plaisir des petits comme des grands.\nUn nouveau circuit bien pentu\, anim
 é par Bernard Guyot et sonorisé\, vous attend.\n\nCette course aura lieu
  pendant la fête de la Saint-Michel avec au programme le samedi :\n🎡 F
 ête foraine\n🍽️ Restauration\n🎶 DJ\n✨ Feu d'artifice.\n\nLes in
 scriptions sont encore ouvertes\, mais les places sont limitées… alors 
 ne tardez plus !
ATTACH;FMTTYPE=image/jpeg:https://agenda24.fr/wp-content/uploads/2025/09/M
 iallet-Caisse-a-savon-13-09.jpg
CATEGORIES:Evènement à thème
LOCATION:Place du chapiteau\, Place du chapiteau\, Miallet\, 24450\, France
X-APPLE-STRUCTURED-LOCATION;VALUE=URI;X-ADDRESS=Place du chapiteau\, Mialle
 t\, 24450\, France;X-APPLE-RADIUS=100;X-TITLE=Place du chapiteau:geo:0,0
END:VEVENT
BEGIN:VTIMEZONE
TZID:Europe/Paris
X-LIC-LOCATION:Europe/Paris
BEGIN:DAYLIGHT
DTSTART:20250330T030000
TZOFFSETFROM:+0100
TZOFFSETTO:+0200
TZNAME:CEST
END:DAYLIGHT
END:VTIMEZONE
END:VCALENDAR