BEGIN:VCALENDAR
VERSION:2.0
PRODID:-//wp-events-plugin.com//7.2.3.1//EN
TZID:Europe/Paris
X-WR-TIMEZONE:Europe/Paris
BEGIN:VEVENT
UID:8347@agenda24.fr
DTSTART;TZID=Europe/Paris:20250918T200000
DTEND;TZID=Europe/Paris:20250918T220000
DTSTAMP:20250909T102812Z
URL:https://agenda24.fr/evenements/cours-de-west-coast-swing/
SUMMARY:Cours de West Coast Swing
DESCRIPTION: Oyé Oyé danseurs du Bergeracois !\n Rentrée dansante à BER
 GERAC A partir du 18 septembre\, venez apprendre à danser le WEST COAST 
 SWING à la Maison Chan avec Delphine : De 20h à 21h : Débutant &amp\; I
 nter 1 (1 année de wcs)   De 21h à 22h : Inter 2 (2 années de wcs + pra
 tiques régulières) &amp\; Avancé  1er cours d'essai gratuit !
CATEGORIES:Atelier / Stage
LOCATION:Maison Chan\, 2 chemin du barrage\, BERGERAC\, 24100\, France
X-APPLE-STRUCTURED-LOCATION;VALUE=URI;X-ADDRESS=2 chemin du barrage\, BERGE
 RAC\, 24100\, France;X-APPLE-RADIUS=100;X-TITLE=Maison Chan:geo:0,0
END:VEVENT
BEGIN:VTIMEZONE
TZID:Europe/Paris
X-LIC-LOCATION:Europe/Paris
BEGIN:DAYLIGHT
DTSTART:20250330T030000
TZOFFSETFROM:+0100
TZOFFSETTO:+0200
TZNAME:CEST
END:DAYLIGHT
END:VTIMEZONE
END:VCALENDAR