BEGIN:VCALENDAR
VERSION:2.0
PRODID:-//wp-events-plugin.com//7.2.3.1//EN
TZID:Europe/Paris
X-WR-TIMEZONE:Europe/Paris
BEGIN:VEVENT
UID:8348@agenda24.fr
DTSTART;TZID=Europe/Paris:20250917T200000
DTEND;TZID=Europe/Paris:20250917T220000
DTSTAMP:20250909T102758Z
URL:https://agenda24.fr/evenements/cours-de-rock/
SUMMARY:Cours de Rock
DESCRIPTION: Oyé Oyé danseurs du Bergeracois !\n Rentrée dansante à POM
 PORT A partir du 17 septembre\, venez apprendre à danser le ROCK\, tous l
 es mercredis\, à la salle des fêtes de Pomport avec Delphine :De 20h à 
 21h : Inter 2 &amp\; Avancé (2 années de rock + pratiques régulières) 
  De 21h à 22h : Débutant &amp\; Inter 1 (1 année de rock)  1er cours d'
 essai gratuit !\n Bonus : Possibilité de renfort des cours Débutant &amp
 \; Inter 1 par les Inter 2 &amp\; Avancé GRATUITEMENT !!\nPré-inscriptio
 n sur www.equipagedanse.com
CATEGORIES:Atelier / Stage
LOCATION:Pomport\, salle des fêtes de Pomport\, Pomport\, 24240\, France
X-APPLE-STRUCTURED-LOCATION;VALUE=URI;X-ADDRESS=salle des fêtes de Pomport
 \, Pomport\, 24240\, France;X-APPLE-RADIUS=100;X-TITLE=Pomport:geo:0,0
END:VEVENT
BEGIN:VTIMEZONE
TZID:Europe/Paris
X-LIC-LOCATION:Europe/Paris
BEGIN:DAYLIGHT
DTSTART:20250330T030000
TZOFFSETFROM:+0100
TZOFFSETTO:+0200
TZNAME:CEST
END:DAYLIGHT
END:VTIMEZONE
END:VCALENDAR