BEGIN:VCALENDAR
VERSION:2.0
PRODID:-//wp-events-plugin.com//7.2.3.1//EN
TZID:Europe/Paris
X-WR-TIMEZONE:Europe/Paris
BEGIN:VEVENT
UID:8346@agenda24.fr
DTSTART;TZID=Europe/Paris:20250915T200000
DTEND;TZID=Europe/Paris:20250915T220000
DTSTAMP:20250909T102746Z
URL:https://agenda24.fr/evenements/cours-de-kizomba-et-bachata/
SUMMARY:Cours de Kizomba et Bachata
DESCRIPTION: Oyé Oyé danseurs du Bergeracois !\n Rentrée dansante à BER
 GERAC  A partir du 15 septembre\, venez apprendre à danser la KIZOMBA et 
 la BACHATA à la Maison Chan avec Nathalie : De 20h à 21h : Kizomba | Dé
 butant évolutif De 21h à 22h : Bachata | Débutant évolutif1er cours d'
 essai gratuit !
CATEGORIES:Atelier / Stage
LOCATION:Maison Chan\, 2 chemin du barrage\, BERGERAC\, 24100\, France
X-APPLE-STRUCTURED-LOCATION;VALUE=URI;X-ADDRESS=2 chemin du barrage\, BERGE
 RAC\, 24100\, France;X-APPLE-RADIUS=100;X-TITLE=Maison Chan:geo:0,0
END:VEVENT
BEGIN:VTIMEZONE
TZID:Europe/Paris
X-LIC-LOCATION:Europe/Paris
BEGIN:DAYLIGHT
DTSTART:20250330T030000
TZOFFSETFROM:+0100
TZOFFSETTO:+0200
TZNAME:CEST
END:DAYLIGHT
END:VTIMEZONE
END:VCALENDAR