BEGIN:VCALENDAR
VERSION:2.0
PRODID:-//wp-events-plugin.com//7.2.3.1//EN
TZID:Europe/Paris
X-WR-TIMEZONE:Europe/Paris
BEGIN:VEVENT
UID:4464@agenda24.fr
DTSTART;TZID=Europe/Paris:20241227T160000
DTEND;TZID=Europe/Paris:20241227T170000
DTSTAMP:20241214T154100Z
URL:https://agenda24.fr/evenements/contes-et-histoire-le-dernier-tour-de-c
 lef/
SUMMARY:Contes et Histoire "Le dernier tour de clef"
DESCRIPTION:
CATEGORIES:Spectacle
LOCATION:Château de Puygulihem\, Château de Puygulihem\, Villars\, France
GEO:45.421385;0.75385
X-APPLE-STRUCTURED-LOCATION;VALUE=URI;X-ADDRESS=Château de Puygulihem\, Vi
 llars\, France;X-APPLE-RADIUS=100;X-TITLE=Château de Puygulihem:geo:45.42
 1385,0.75385
END:VEVENT
BEGIN:VTIMEZONE
TZID:Europe/Paris
X-LIC-LOCATION:Europe/Paris
BEGIN:STANDARD
DTSTART:20241027T020000
TZOFFSETFROM:+0200
TZOFFSETTO:+0100
TZNAME:CET
END:STANDARD
END:VTIMEZONE
END:VCALENDAR