BEGIN:VCALENDAR
VERSION:2.0
PRODID:-//wp-events-plugin.com//7.2.3.1//EN
TZID:Europe/Paris
X-WR-TIMEZONE:Europe/Paris
BEGIN:VEVENT
UID:3989@agenda24.fr
DTSTART;TZID=Europe/Paris:20241122T203000
DTEND;TZID=Europe/Paris:20241122T203000
DTSTAMP:20241030T091156Z
URL:https://agenda24.fr/evenements/contes-avec-daniel-chavaroche-vent-de-b
 eune/
SUMMARY:Contes avec Daniel Chavaroche - Vent de Beune
DESCRIPTION:
CATEGORIES:Spectacle
LOCATION:Salle des fêtes\, Salle des fêtes\, Beynac-et-Cazenac\, France
GEO:44.8406000;1.1412770
X-APPLE-STRUCTURED-LOCATION;VALUE=URI;X-ADDRESS=Salle des fêtes\, Beynac-e
 t-Cazenac\, France;X-APPLE-RADIUS=100;X-TITLE=Salle des fêtes:geo:44.8406
 000,1.1412770
END:VEVENT
BEGIN:VTIMEZONE
TZID:Europe/Paris
X-LIC-LOCATION:Europe/Paris
BEGIN:STANDARD
DTSTART:20241027T020000
TZOFFSETFROM:+0200
TZOFFSETTO:+0100
TZNAME:CET
END:STANDARD
END:VTIMEZONE
END:VCALENDAR